BEGIN:VCALENDAR
VERSION:2.0
PRODID:-//The German Club - ECPv6.15.20//NONSGML v1.0//EN
CALSCALE:GREGORIAN
METHOD:PUBLISH
X-ORIGINAL-URL:https://thegermanclub.org.au
X-WR-CALDESC:Events for The German Club
REFRESH-INTERVAL;VALUE=DURATION:PT1H
X-Robots-Tag:noindex
X-PUBLISHED-TTL:PT1H
BEGIN:VTIMEZONE
TZID:Australia/Adelaide
BEGIN:STANDARD
TZOFFSETFROM:+1030
TZOFFSETTO:+0930
TZNAME:ACST
DTSTART:20250405T163000
END:STANDARD
BEGIN:DAYLIGHT
TZOFFSETFROM:+0930
TZOFFSETTO:+1030
TZNAME:ACDT
DTSTART:20251004T163000
END:DAYLIGHT
BEGIN:STANDARD
TZOFFSETFROM:+1030
TZOFFSETTO:+0930
TZNAME:ACST
DTSTART:20260404T163000
END:STANDARD
BEGIN:DAYLIGHT
TZOFFSETFROM:+0930
TZOFFSETTO:+1030
TZNAME:ACDT
DTSTART:20261003T163000
END:DAYLIGHT
BEGIN:STANDARD
TZOFFSETFROM:+1030
TZOFFSETTO:+0930
TZNAME:ACST
DTSTART:20270403T163000
END:STANDARD
BEGIN:DAYLIGHT
TZOFFSETFROM:+0930
TZOFFSETTO:+1030
TZNAME:ACDT
DTSTART:20271002T163000
END:DAYLIGHT
END:VTIMEZONE
BEGIN:VEVENT
DTSTART;TZID=Australia/Adelaide:20260417T173000
DTEND;TZID=Australia/Adelaide:20260417T220000
DTSTAMP:20260423T232439
CREATED:20260217T083311Z
LAST-MODIFIED:20260329T004933Z
UID:2539-1776447000-1776463200@thegermanclub.org.au
SUMMARY:Brat & Brew Fest
DESCRIPTION: Brat & Brew Fest \n\nA beloved German tradition of gathering and enjoy good company\, hearty traditional food\, refreshing drinks\, and lively conversation\, the perfect mix of fun and Gemütlichkeit!\n\n\nSo come along\, bring your friends\, and start your weekend with a twist.\n– Premium selection of German wursts\, Thüringer Bratwurst\, Cheese Kransky\, Bockwurst (sausages! : )\, or try grilled German meatballs (Frickadellen)\n– Giant SA’s best giant schnitzels – choose from traditional pork or chicken. Served with homemade German pasta (Spatzle) & gravy\n– Vegetarian lentil stew with homemade German pasta (Spatzle)\n– Irresistible fresh German cakes & giant pretzels\n\nBookings under.\nhttps://www.trybooking.com/DKZKN\n\n\nProst!
URL:https://thegermanclub.org.au/event/brat-brew-fest/
LOCATION:The German Club\, 41 Airport Rd\, Brooklyn Park\, SA\, 5032\, Australia
CATEGORIES:Openings
ORGANIZER;CN="SA German Association":MAILTO:office@thegermanclub.org.au
END:VEVENT
END:VCALENDAR