BEGIN:VCALENDAR
VERSION:2.0
PRODID:-//The German Club - ECPv6.15.20//NONSGML v1.0//EN
CALSCALE:GREGORIAN
METHOD:PUBLISH
X-ORIGINAL-URL:https://thegermanclub.org.au
X-WR-CALDESC:Events for The German Club
REFRESH-INTERVAL;VALUE=DURATION:PT1H
X-Robots-Tag:noindex
X-PUBLISHED-TTL:PT1H
BEGIN:VTIMEZONE
TZID:Australia/Adelaide
BEGIN:STANDARD
TZOFFSETFROM:+1030
TZOFFSETTO:+0930
TZNAME:ACST
DTSTART:20240406T163000
END:STANDARD
BEGIN:DAYLIGHT
TZOFFSETFROM:+0930
TZOFFSETTO:+1030
TZNAME:ACDT
DTSTART:20241005T163000
END:DAYLIGHT
BEGIN:STANDARD
TZOFFSETFROM:+1030
TZOFFSETTO:+0930
TZNAME:ACST
DTSTART:20250405T163000
END:STANDARD
BEGIN:DAYLIGHT
TZOFFSETFROM:+0930
TZOFFSETTO:+1030
TZNAME:ACDT
DTSTART:20251004T163000
END:DAYLIGHT
BEGIN:STANDARD
TZOFFSETFROM:+1030
TZOFFSETTO:+0930
TZNAME:ACST
DTSTART:20260404T163000
END:STANDARD
BEGIN:DAYLIGHT
TZOFFSETFROM:+0930
TZOFFSETTO:+1030
TZNAME:ACDT
DTSTART:20261003T163000
END:DAYLIGHT
END:VTIMEZONE
BEGIN:VEVENT
DTSTART;TZID=Australia/Adelaide:20251102T140000
DTEND;TZID=Australia/Adelaide:20251102T170000
DTSTAMP:20260424T044102
CREATED:20240928T072425Z
LAST-MODIFIED:20250625T123508Z
UID:1134-1762092000-1762102800@thegermanclub.org.au
SUMMARY:AGM 2025
DESCRIPTION:MEMBERS ONLY- Find out what’s been happening at your German Club. Learn more about the Club’s progress this year\, upcoming activities and events and also the nomination of the next Executive Committee. Committee members ensure the smooth\, efficient and effective running of the club for the sake of all members. All current members are eligible to apply for a position on the Committee. We are presently particularly seeking people with IT\, marketing\, finance\, business or administrative skills. Alternatively\, as an ordinary member\, you may wish to help out at the club in another way such as at events\, IT and marketing or even mowing the lawn once a month! Many hands make light work and there’s always a friendly and fun atmosphere at the German Club!
URL:https://thegermanclub.org.au/event/agm-2024/
LOCATION:The German Club\, 41 Airport Rd\, Brooklyn Park\, SA\, 5032\, Australia
CATEGORIES:Meeting
ORGANIZER;CN="SA German Association":MAILTO:office@thegermanclub.org.au
END:VEVENT
BEGIN:VEVENT
DTSTART;TZID=Australia/Adelaide:20251109T110000
DTEND;TZID=Australia/Adelaide:20251109T150000
DTSTAMP:20260424T044102
CREATED:20250523T111501Z
LAST-MODIFIED:20251102T090742Z
UID:2054-1762686000-1762700400@thegermanclub.org.au
SUMMARY:Sunday Brunch - Frühschoppen
DESCRIPTION:Fancy a good Sunday sausage and German beer? Or are delectable cakes & pretzels your Geschmack? The German Club is open from 11:000am to 3:00pm for Frühschoppen (Brunch) or Lunch. Prost! \n\n\n Specialty Thüringer Bratwurst\, traditional Weisswurst or cheese Kranskys\n Premium German beers\, Schnapps & local wine & ciders & non-alcoholic options\n Delicious German cakes\, fresh coffee/tea\, hot chocolate\n Schwäbische Brezeln (giant pretzels)! Wunderbar! \n Vegetarian & vegan options\n Great atmosphere
URL:https://thegermanclub.org.au/event/sunday-brunch-fruhschoppen-6/
LOCATION:The German Club\, 41 Airport Rd\, Brooklyn Park\, SA\, 5032\, Australia
CATEGORIES:Openings
ORGANIZER;CN="SA German Association":MAILTO:office@thegermanclub.org.au
END:VEVENT
BEGIN:VEVENT
DTSTART;TZID=Australia/Adelaide:20251129T140000
DTEND;TZID=Australia/Adelaide:20251129T170000
DTSTAMP:20260424T044102
CREATED:20240928T073013Z
LAST-MODIFIED:20251102T090824Z
UID:1137-1764424800-1764435600@thegermanclub.org.au
SUMMARY:German Club Christmas Party
DESCRIPTION:Join us with family and friends alike for our annual Christmas event\, always joy and overflowing with delicious treats\, beautiful music and great atmosphere. \nAll are welcome\, Saturday 29th November from 2pm for a traditional German Christmas celebration with coffee & cake & singalong. Bar open \nBOOKINGS: Please contact Christa on 0405410177 or email office@thegermanclub.org.au
URL:https://thegermanclub.org.au/event/christmas-party/
LOCATION:The German Club\, 41 Airport Rd\, Brooklyn Park\, SA\, 5032\, Australia
CATEGORIES:Openings
ORGANIZER;CN="SA German Association":MAILTO:office@thegermanclub.org.au
END:VEVENT
END:VCALENDAR