BEGIN:VCALENDAR
VERSION:2.0
PRODID:-//The German Club - ECPv6.15.20//NONSGML v1.0//EN
CALSCALE:GREGORIAN
METHOD:PUBLISH
X-ORIGINAL-URL:https://thegermanclub.org.au
X-WR-CALDESC:Events for The German Club
REFRESH-INTERVAL;VALUE=DURATION:PT1H
X-Robots-Tag:noindex
X-PUBLISHED-TTL:PT1H
BEGIN:VTIMEZONE
TZID:Australia/Adelaide
BEGIN:STANDARD
TZOFFSETFROM:+1030
TZOFFSETTO:+0930
TZNAME:ACST
DTSTART:20250405T163000
END:STANDARD
BEGIN:DAYLIGHT
TZOFFSETFROM:+0930
TZOFFSETTO:+1030
TZNAME:ACDT
DTSTART:20251004T163000
END:DAYLIGHT
BEGIN:STANDARD
TZOFFSETFROM:+1030
TZOFFSETTO:+0930
TZNAME:ACST
DTSTART:20260404T163000
END:STANDARD
BEGIN:DAYLIGHT
TZOFFSETFROM:+0930
TZOFFSETTO:+1030
TZNAME:ACDT
DTSTART:20261003T163000
END:DAYLIGHT
BEGIN:STANDARD
TZOFFSETFROM:+1030
TZOFFSETTO:+0930
TZNAME:ACST
DTSTART:20270403T163000
END:STANDARD
BEGIN:DAYLIGHT
TZOFFSETFROM:+0930
TZOFFSETTO:+1030
TZNAME:ACDT
DTSTART:20271002T163000
END:DAYLIGHT
END:VTIMEZONE
BEGIN:VEVENT
DTSTART;TZID=Australia/Adelaide:20260322T110000
DTEND;TZID=Australia/Adelaide:20260322T160000
DTSTAMP:20260423T232619
CREATED:20260217T081756Z
LAST-MODIFIED:20260311T105756Z
UID:2537-1774177200-1774195200@thegermanclub.org.au
SUMMARY:Sunday Brunch - Taste of Germany /Frühschoppen/Brunch
DESCRIPTION:SORRY WE HAD WRONG DATE ADVERTISED BEFORE\, THE EVENT IS ON THE 22.3.2026\n\n Join us at the German Club for Sunday Brunch & Lunch or a Traditional German Frühschoppen! \n\n\nFrühschoppen is a beloved German tradition of gathering late Sunday morning to enjoy good company\, hearty food\, refreshing drinks\, and lively conversation\, the perfect mix of relaxation and Gemütlichkeit!\n\n\nSo come along\, bring your friends\, and start your Sunday the German way!\n From 11am\n German Club\n41 Airport Rd\nBrooklyn Park\n\nBook under\n\n\nhttps://trybooking.com/DKCQL \n\n\n\nProst!
URL:https://thegermanclub.org.au/event/sunday-brunch-fruhschoppen/
LOCATION:The German Club\, 41 Airport Rd\, Brooklyn Park\, SA\, 5032\, Australia
CATEGORIES:Openings
ORGANIZER;CN="SA German Association":MAILTO:office@thegermanclub.org.au
END:VEVENT
END:VCALENDAR